BEGIN:VCALENDAR
VERSION:2.0
PRODID:-//City of Leitchfield - ECPv6.15.20//NONSGML v1.0//EN
CALSCALE:GREGORIAN
METHOD:PUBLISH
X-WR-CALNAME:City of Leitchfield
X-ORIGINAL-URL:https://leitchfield.ky.gov
X-WR-CALDESC:Events for City of Leitchfield
REFRESH-INTERVAL;VALUE=DURATION:PT1H
X-Robots-Tag:noindex
X-PUBLISHED-TTL:PT1H
BEGIN:VTIMEZONE
TZID:UTC
BEGIN:STANDARD
TZOFFSETFROM:+0000
TZOFFSETTO:+0000
TZNAME:UTC
DTSTART:20240101T000000
END:STANDARD
END:VTIMEZONE
BEGIN:VEVENT
DTSTART;TZID=UTC:20260224T083000
DTEND;TZID=UTC:20260224T093000
DTSTAMP:20260423T110120
CREATED:20230414T180516Z
LAST-MODIFIED:20230719T154553Z
UID:10000361-1771921800-1771925400@leitchfield.ky.gov
SUMMARY:Tourism Commission Meetings
DESCRIPTION:The Leitchfield Tourism Commission meets on the fourth Tuesday of each month at the Centre on Main at 8:30 a.m. \nIlsa Johnson\, Director\n Contact Ilsa\n515 South Main Street\nLeitchfield\, KY 42754\n (270) 259-5587\n (888) 624-9951 \nCommissioners​ \n\nRyan Bratcher\, Chair\nLindell Sharp\, Vice-Chair\nJoyce Mudd\, Treasurer\nAngie Jones\, Secretary\nKelly Stevenson\nAnthony Miller\nCarla Winn
URL:https://leitchfield.ky.gov/event/tourism-commission-meetings/2026-02-24/
LOCATION:Leitchfield City Hall
END:VEVENT
BEGIN:VEVENT
DTSTART;TZID=UTC:20260219T170000
DTEND;TZID=UTC:20260219T180000
DTSTAMP:20260423T110120
CREATED:20230725T155157Z
LAST-MODIFIED:20230725T155643Z
UID:10000575-1771520400-1771524000@leitchfield.ky.gov
SUMMARY:Utilities Commission
DESCRIPTION:The Leitchfield Utilities Commission meets in regular session the first and third Thursday’s of each month at Leitchfield City Hall at 5:00 p.m.
URL:https://leitchfield.ky.gov/event/utilities-commission-2/2026-02-19/
LOCATION:Leitchfield City Hall
END:VEVENT
BEGIN:VEVENT
DTSTART;TZID=UTC:20260216T180000
DTEND;TZID=UTC:20260216T190000
DTSTAMP:20260423T110120
CREATED:20230725T155838Z
LAST-MODIFIED:20230725T195455Z
UID:10000757-1771264800-1771268400@leitchfield.ky.gov
SUMMARY:City Council Meetings
DESCRIPTION:The Leitchfield City Council meets in regular session the first and third Monday’s of each month at 6:00 p.m. at Leitchfield City Hall. If the regular meeting date falls on a Holiday it will be the next regular business day at 6:00 p.m. at Leitchfield City Hall.
URL:https://leitchfield.ky.gov/event/city-council-meetings-2/2026-02-16/
LOCATION:Leitchfield City Hall
END:VEVENT
BEGIN:VEVENT
DTSTART;TZID=UTC:20260209T170000
DTEND;TZID=UTC:20260209T180000
DTSTAMP:20260423T110120
CREATED:20230414T175730Z
LAST-MODIFIED:20230414T175730Z
UID:10000298-1770656400-1770660000@leitchfield.ky.gov
SUMMARY:Planning Commission
DESCRIPTION:The Leitchfield Planning Commission meets the second Monday of each month at Leitchfield City Hall at 5:00 p.m.
URL:https://leitchfield.ky.gov/event/planning-commission/2026-02-09/
END:VEVENT
BEGIN:VEVENT
DTSTART;TZID=UTC:20260205T170000
DTEND;TZID=UTC:20260205T180000
DTSTAMP:20260423T110120
CREATED:20230725T155006Z
LAST-MODIFIED:20230725T155252Z
UID:10000516-1770310800-1770314400@leitchfield.ky.gov
SUMMARY:Utilities Commission
DESCRIPTION:The Leitchfield Utilities Commission meets in regular session the first and third Thursday’s of each month at Leitchfield City Hall at 5:00 p.m.
URL:https://leitchfield.ky.gov/event/utilities-commission/2026-02-05/
LOCATION:Leitchfield City Hall
END:VEVENT
BEGIN:VEVENT
DTSTART;TZID=UTC:20260202T180000
DTEND;TZID=UTC:20260202T190000
DTSTAMP:20260423T110120
CREATED:20230414T175356Z
LAST-MODIFIED:20230725T153733Z
UID:10000077-1770055200-1770058800@leitchfield.ky.gov
SUMMARY:City Council Meetings
DESCRIPTION:The Leitchfield City Council meets in regular session the first and third Monday’s of each month at 6:00 p.m. at Leitchfield City Hall. If the regular meeting date falls on a Holiday it will be the next regular business day at 6:00 p.m. at Leitchfield City Hall.
URL:https://leitchfield.ky.gov/event/city-council-meetings/2026-02-02/
END:VEVENT
BEGIN:VEVENT
DTSTART;TZID=UTC:20260127T083000
DTEND;TZID=UTC:20260127T093000
DTSTAMP:20260423T110120
CREATED:20230414T180516Z
LAST-MODIFIED:20230719T154553Z
UID:10000360-1769502600-1769506200@leitchfield.ky.gov
SUMMARY:Tourism Commission Meetings
DESCRIPTION:The Leitchfield Tourism Commission meets on the fourth Tuesday of each month at the Centre on Main at 8:30 a.m. \nIlsa Johnson\, Director\n Contact Ilsa\n515 South Main Street\nLeitchfield\, KY 42754\n (270) 259-5587\n (888) 624-9951 \nCommissioners​ \n\nRyan Bratcher\, Chair\nLindell Sharp\, Vice-Chair\nJoyce Mudd\, Treasurer\nAngie Jones\, Secretary\nKelly Stevenson\nAnthony Miller\nCarla Winn
URL:https://leitchfield.ky.gov/event/tourism-commission-meetings/2026-01-27/
LOCATION:Leitchfield City Hall
END:VEVENT
BEGIN:VEVENT
DTSTART;TZID=UTC:20260119T180000
DTEND;TZID=UTC:20260119T190000
DTSTAMP:20260423T110120
CREATED:20230725T155838Z
LAST-MODIFIED:20230725T195455Z
UID:10000756-1768845600-1768849200@leitchfield.ky.gov
SUMMARY:City Council Meetings
DESCRIPTION:The Leitchfield City Council meets in regular session the first and third Monday’s of each month at 6:00 p.m. at Leitchfield City Hall. If the regular meeting date falls on a Holiday it will be the next regular business day at 6:00 p.m. at Leitchfield City Hall.
URL:https://leitchfield.ky.gov/event/city-council-meetings-2/2026-01-19/
LOCATION:Leitchfield City Hall
END:VEVENT
BEGIN:VEVENT
DTSTART;TZID=UTC:20260115T170000
DTEND;TZID=UTC:20260115T180000
DTSTAMP:20260423T110120
CREATED:20230725T155157Z
LAST-MODIFIED:20230725T155643Z
UID:10000574-1768496400-1768500000@leitchfield.ky.gov
SUMMARY:Utilities Commission
DESCRIPTION:The Leitchfield Utilities Commission meets in regular session the first and third Thursday’s of each month at Leitchfield City Hall at 5:00 p.m.
URL:https://leitchfield.ky.gov/event/utilities-commission-2/2026-01-15/
LOCATION:Leitchfield City Hall
END:VEVENT
BEGIN:VEVENT
DTSTART;TZID=UTC:20260112T170000
DTEND;TZID=UTC:20260112T180000
DTSTAMP:20260423T110120
CREATED:20230414T175730Z
LAST-MODIFIED:20230414T175730Z
UID:10000297-1768237200-1768240800@leitchfield.ky.gov
SUMMARY:Planning Commission
DESCRIPTION:The Leitchfield Planning Commission meets the second Monday of each month at Leitchfield City Hall at 5:00 p.m.
URL:https://leitchfield.ky.gov/event/planning-commission/2026-01-12/
END:VEVENT
BEGIN:VEVENT
DTSTART;TZID=UTC:20260105T180000
DTEND;TZID=UTC:20260105T190000
DTSTAMP:20260423T110120
CREATED:20230414T175356Z
LAST-MODIFIED:20230725T153733Z
UID:10000075-1767636000-1767639600@leitchfield.ky.gov
SUMMARY:City Council Meetings
DESCRIPTION:The Leitchfield City Council meets in regular session the first and third Monday’s of each month at 6:00 p.m. at Leitchfield City Hall. If the regular meeting date falls on a Holiday it will be the next regular business day at 6:00 p.m. at Leitchfield City Hall.
URL:https://leitchfield.ky.gov/event/city-council-meetings/2026-01-05/
END:VEVENT
BEGIN:VEVENT
DTSTART;TZID=UTC:20260101T170000
DTEND;TZID=UTC:20260101T180000
DTSTAMP:20260423T110120
CREATED:20230725T155006Z
LAST-MODIFIED:20230725T155252Z
UID:10000515-1767286800-1767290400@leitchfield.ky.gov
SUMMARY:Utilities Commission
DESCRIPTION:The Leitchfield Utilities Commission meets in regular session the first and third Thursday’s of each month at Leitchfield City Hall at 5:00 p.m.
URL:https://leitchfield.ky.gov/event/utilities-commission/2026-01-01/
LOCATION:Leitchfield City Hall
END:VEVENT
BEGIN:VEVENT
DTSTART;TZID=UTC:20251223T083000
DTEND;TZID=UTC:20251223T093000
DTSTAMP:20260423T110120
CREATED:20230414T180516Z
LAST-MODIFIED:20230719T154553Z
UID:10000359-1766478600-1766482200@leitchfield.ky.gov
SUMMARY:Tourism Commission Meetings
DESCRIPTION:The Leitchfield Tourism Commission meets on the fourth Tuesday of each month at the Centre on Main at 8:30 a.m. \nIlsa Johnson\, Director\n Contact Ilsa\n515 South Main Street\nLeitchfield\, KY 42754\n (270) 259-5587\n (888) 624-9951 \nCommissioners​ \n\nRyan Bratcher\, Chair\nLindell Sharp\, Vice-Chair\nJoyce Mudd\, Treasurer\nAngie Jones\, Secretary\nKelly Stevenson\nAnthony Miller\nCarla Winn
URL:https://leitchfield.ky.gov/event/tourism-commission-meetings/2025-12-23/
LOCATION:Leitchfield City Hall
END:VEVENT
BEGIN:VEVENT
DTSTART;TZID=UTC:20251218T170000
DTEND;TZID=UTC:20251218T180000
DTSTAMP:20260423T110120
CREATED:20230725T155157Z
LAST-MODIFIED:20230725T155643Z
UID:10000573-1766077200-1766080800@leitchfield.ky.gov
SUMMARY:Utilities Commission
DESCRIPTION:The Leitchfield Utilities Commission meets in regular session the first and third Thursday’s of each month at Leitchfield City Hall at 5:00 p.m.
URL:https://leitchfield.ky.gov/event/utilities-commission-2/2025-12-18/
LOCATION:Leitchfield City Hall
END:VEVENT
BEGIN:VEVENT
DTSTART;TZID=UTC:20251215T180000
DTEND;TZID=UTC:20251215T190000
DTSTAMP:20260423T110120
CREATED:20230725T155838Z
LAST-MODIFIED:20230725T195455Z
UID:10000755-1765821600-1765825200@leitchfield.ky.gov
SUMMARY:City Council Meetings
DESCRIPTION:The Leitchfield City Council meets in regular session the first and third Monday’s of each month at 6:00 p.m. at Leitchfield City Hall. If the regular meeting date falls on a Holiday it will be the next regular business day at 6:00 p.m. at Leitchfield City Hall.
URL:https://leitchfield.ky.gov/event/city-council-meetings-2/2025-12-15/
LOCATION:Leitchfield City Hall
END:VEVENT
BEGIN:VEVENT
DTSTART;TZID=UTC:20251208T170000
DTEND;TZID=UTC:20251208T180000
DTSTAMP:20260423T110120
CREATED:20230414T175730Z
LAST-MODIFIED:20230414T175730Z
UID:10000296-1765213200-1765216800@leitchfield.ky.gov
SUMMARY:Planning Commission
DESCRIPTION:The Leitchfield Planning Commission meets the second Monday of each month at Leitchfield City Hall at 5:00 p.m.
URL:https://leitchfield.ky.gov/event/planning-commission/2025-12-08/
END:VEVENT
BEGIN:VEVENT
DTSTART;TZID=UTC:20251204T170000
DTEND;TZID=UTC:20251204T180000
DTSTAMP:20260423T110120
CREATED:20230725T155006Z
LAST-MODIFIED:20230725T155252Z
UID:10000514-1764867600-1764871200@leitchfield.ky.gov
SUMMARY:Utilities Commission
DESCRIPTION:The Leitchfield Utilities Commission meets in regular session the first and third Thursday’s of each month at Leitchfield City Hall at 5:00 p.m.
URL:https://leitchfield.ky.gov/event/utilities-commission/2025-12-04/
LOCATION:Leitchfield City Hall
END:VEVENT
BEGIN:VEVENT
DTSTART;TZID=UTC:20251201T180000
DTEND;TZID=UTC:20251201T190000
DTSTAMP:20260423T110120
CREATED:20230414T175356Z
LAST-MODIFIED:20230725T153733Z
UID:10000407-1764612000-1764615600@leitchfield.ky.gov
SUMMARY:City Council Meetings
DESCRIPTION:The Leitchfield City Council meets in regular session the first and third Monday’s of each month at 6:00 p.m. at Leitchfield City Hall. If the regular meeting date falls on a Holiday it will be the next regular business day at 6:00 p.m. at Leitchfield City Hall.
URL:https://leitchfield.ky.gov/event/city-council-meetings/2025-12-01/
END:VEVENT
BEGIN:VEVENT
DTSTART;TZID=UTC:20251125T083000
DTEND;TZID=UTC:20251125T093000
DTSTAMP:20260423T110120
CREATED:20230414T180516Z
LAST-MODIFIED:20230719T154553Z
UID:10000358-1764059400-1764063000@leitchfield.ky.gov
SUMMARY:Tourism Commission Meetings
DESCRIPTION:The Leitchfield Tourism Commission meets on the fourth Tuesday of each month at the Centre on Main at 8:30 a.m. \nIlsa Johnson\, Director\n Contact Ilsa\n515 South Main Street\nLeitchfield\, KY 42754\n (270) 259-5587\n (888) 624-9951 \nCommissioners​ \n\nRyan Bratcher\, Chair\nLindell Sharp\, Vice-Chair\nJoyce Mudd\, Treasurer\nAngie Jones\, Secretary\nKelly Stevenson\nAnthony Miller\nCarla Winn
URL:https://leitchfield.ky.gov/event/tourism-commission-meetings/2025-11-25/
LOCATION:Leitchfield City Hall
END:VEVENT
BEGIN:VEVENT
DTSTART;TZID=UTC:20251120T170000
DTEND;TZID=UTC:20251120T180000
DTSTAMP:20260423T110120
CREATED:20230725T155157Z
LAST-MODIFIED:20230725T155643Z
UID:10000572-1763658000-1763661600@leitchfield.ky.gov
SUMMARY:Utilities Commission
DESCRIPTION:The Leitchfield Utilities Commission meets in regular session the first and third Thursday’s of each month at Leitchfield City Hall at 5:00 p.m.
URL:https://leitchfield.ky.gov/event/utilities-commission-2/2025-11-20/
LOCATION:Leitchfield City Hall
END:VEVENT
BEGIN:VEVENT
DTSTART;TZID=UTC:20251117T180000
DTEND;TZID=UTC:20251117T190000
DTSTAMP:20260423T110120
CREATED:20230725T155838Z
LAST-MODIFIED:20230725T195455Z
UID:10000754-1763402400-1763406000@leitchfield.ky.gov
SUMMARY:City Council Meetings
DESCRIPTION:The Leitchfield City Council meets in regular session the first and third Monday’s of each month at 6:00 p.m. at Leitchfield City Hall. If the regular meeting date falls on a Holiday it will be the next regular business day at 6:00 p.m. at Leitchfield City Hall.
URL:https://leitchfield.ky.gov/event/city-council-meetings-2/2025-11-17/
LOCATION:Leitchfield City Hall
END:VEVENT
BEGIN:VEVENT
DTSTART;TZID=UTC:20251110T170000
DTEND;TZID=UTC:20251110T180000
DTSTAMP:20260423T110120
CREATED:20230414T175730Z
LAST-MODIFIED:20230414T175730Z
UID:10000295-1762794000-1762797600@leitchfield.ky.gov
SUMMARY:Planning Commission
DESCRIPTION:The Leitchfield Planning Commission meets the second Monday of each month at Leitchfield City Hall at 5:00 p.m.
URL:https://leitchfield.ky.gov/event/planning-commission/2025-11-10/
END:VEVENT
BEGIN:VEVENT
DTSTART;TZID=UTC:20251106T170000
DTEND;TZID=UTC:20251106T180000
DTSTAMP:20260423T110120
CREATED:20230725T155006Z
LAST-MODIFIED:20230725T155252Z
UID:10000513-1762448400-1762452000@leitchfield.ky.gov
SUMMARY:Utilities Commission
DESCRIPTION:The Leitchfield Utilities Commission meets in regular session the first and third Thursday’s of each month at Leitchfield City Hall at 5:00 p.m.
URL:https://leitchfield.ky.gov/event/utilities-commission/2025-11-06/
LOCATION:Leitchfield City Hall
END:VEVENT
BEGIN:VEVENT
DTSTART;TZID=UTC:20251103T180000
DTEND;TZID=UTC:20251103T190000
DTSTAMP:20260423T110120
CREATED:20230414T175356Z
LAST-MODIFIED:20230725T153733Z
UID:10000406-1762192800-1762196400@leitchfield.ky.gov
SUMMARY:City Council Meetings
DESCRIPTION:The Leitchfield City Council meets in regular session the first and third Monday’s of each month at 6:00 p.m. at Leitchfield City Hall. If the regular meeting date falls on a Holiday it will be the next regular business day at 6:00 p.m. at Leitchfield City Hall.
URL:https://leitchfield.ky.gov/event/city-council-meetings/2025-11-03/
END:VEVENT
BEGIN:VEVENT
DTSTART;TZID=UTC:20251028T083000
DTEND;TZID=UTC:20251028T093000
DTSTAMP:20260423T110120
CREATED:20230414T180516Z
LAST-MODIFIED:20230719T154553Z
UID:10000357-1761640200-1761643800@leitchfield.ky.gov
SUMMARY:Tourism Commission Meetings
DESCRIPTION:The Leitchfield Tourism Commission meets on the fourth Tuesday of each month at the Centre on Main at 8:30 a.m. \nIlsa Johnson\, Director\n Contact Ilsa\n515 South Main Street\nLeitchfield\, KY 42754\n (270) 259-5587\n (888) 624-9951 \nCommissioners​ \n\nRyan Bratcher\, Chair\nLindell Sharp\, Vice-Chair\nJoyce Mudd\, Treasurer\nAngie Jones\, Secretary\nKelly Stevenson\nAnthony Miller\nCarla Winn
URL:https://leitchfield.ky.gov/event/tourism-commission-meetings/2025-10-28/
LOCATION:Leitchfield City Hall
END:VEVENT
BEGIN:VEVENT
DTSTART;TZID=UTC:20251020T180000
DTEND;TZID=UTC:20251020T190000
DTSTAMP:20260423T110120
CREATED:20230725T155838Z
LAST-MODIFIED:20230725T195455Z
UID:10000753-1760983200-1760986800@leitchfield.ky.gov
SUMMARY:City Council Meetings
DESCRIPTION:The Leitchfield City Council meets in regular session the first and third Monday’s of each month at 6:00 p.m. at Leitchfield City Hall. If the regular meeting date falls on a Holiday it will be the next regular business day at 6:00 p.m. at Leitchfield City Hall.
URL:https://leitchfield.ky.gov/event/city-council-meetings-2/2025-10-20/
LOCATION:Leitchfield City Hall
END:VEVENT
BEGIN:VEVENT
DTSTART;TZID=UTC:20251016T170000
DTEND;TZID=UTC:20251016T180000
DTSTAMP:20260423T110120
CREATED:20230725T155157Z
LAST-MODIFIED:20230725T155643Z
UID:10000571-1760634000-1760637600@leitchfield.ky.gov
SUMMARY:Utilities Commission
DESCRIPTION:The Leitchfield Utilities Commission meets in regular session the first and third Thursday’s of each month at Leitchfield City Hall at 5:00 p.m.
URL:https://leitchfield.ky.gov/event/utilities-commission-2/2025-10-16/
LOCATION:Leitchfield City Hall
END:VEVENT
BEGIN:VEVENT
DTSTART;TZID=UTC:20251013T170000
DTEND;TZID=UTC:20251013T180000
DTSTAMP:20260423T110120
CREATED:20230414T175730Z
LAST-MODIFIED:20230414T175730Z
UID:10000294-1760374800-1760378400@leitchfield.ky.gov
SUMMARY:Planning Commission
DESCRIPTION:The Leitchfield Planning Commission meets the second Monday of each month at Leitchfield City Hall at 5:00 p.m.
URL:https://leitchfield.ky.gov/event/planning-commission/2025-10-13/
END:VEVENT
BEGIN:VEVENT
DTSTART;TZID=UTC:20251006T180000
DTEND;TZID=UTC:20251006T190000
DTSTAMP:20260423T110120
CREATED:20230414T175356Z
LAST-MODIFIED:20230725T153733Z
UID:10000405-1759773600-1759777200@leitchfield.ky.gov
SUMMARY:City Council Meetings
DESCRIPTION:The Leitchfield City Council meets in regular session the first and third Monday’s of each month at 6:00 p.m. at Leitchfield City Hall. If the regular meeting date falls on a Holiday it will be the next regular business day at 6:00 p.m. at Leitchfield City Hall.
URL:https://leitchfield.ky.gov/event/city-council-meetings/2025-10-06/
END:VEVENT
BEGIN:VEVENT
DTSTART;TZID=UTC:20251002T170000
DTEND;TZID=UTC:20251002T180000
DTSTAMP:20260423T110120
CREATED:20230725T155006Z
LAST-MODIFIED:20230725T155252Z
UID:10000512-1759424400-1759428000@leitchfield.ky.gov
SUMMARY:Utilities Commission
DESCRIPTION:The Leitchfield Utilities Commission meets in regular session the first and third Thursday’s of each month at Leitchfield City Hall at 5:00 p.m.
URL:https://leitchfield.ky.gov/event/utilities-commission/2025-10-02/
LOCATION:Leitchfield City Hall
END:VEVENT
END:VCALENDAR