BEGIN:VCALENDAR
VERSION:2.0
PRODID:-//City of Leitchfield - ECPv6.15.20//NONSGML v1.0//EN
CALSCALE:GREGORIAN
METHOD:PUBLISH
X-ORIGINAL-URL:https://leitchfield.ky.gov
X-WR-CALDESC:Events for City of Leitchfield
REFRESH-INTERVAL;VALUE=DURATION:PT1H
X-Robots-Tag:noindex
X-PUBLISHED-TTL:PT1H
BEGIN:VTIMEZONE
TZID:UTC
BEGIN:STANDARD
TZOFFSETFROM:+0000
TZOFFSETTO:+0000
TZNAME:UTC
DTSTART:20240101T000000
END:STANDARD
END:VTIMEZONE
BEGIN:VEVENT
DTSTART;TZID=UTC:20250605T170000
DTEND;TZID=UTC:20250605T180000
DTSTAMP:20260420T174321
CREATED:20230725T155006Z
LAST-MODIFIED:20230725T155252Z
UID:10000508-1749142800-1749146400@leitchfield.ky.gov
SUMMARY:Utilities Commission
DESCRIPTION:The Leitchfield Utilities Commission meets in regular session the first and third Thursday’s of each month at Leitchfield City Hall at 5:00 p.m.
URL:https://leitchfield.ky.gov/event/utilities-commission/2025-06-05/
LOCATION:Leitchfield City Hall
END:VEVENT
BEGIN:VEVENT
DTSTART;TZID=UTC:20250609T170000
DTEND;TZID=UTC:20250609T180000
DTSTAMP:20260420T174321
CREATED:20230414T175730Z
LAST-MODIFIED:20230414T175730Z
UID:10000290-1749488400-1749492000@leitchfield.ky.gov
SUMMARY:Planning Commission
DESCRIPTION:The Leitchfield Planning Commission meets the second Monday of each month at Leitchfield City Hall at 5:00 p.m.
URL:https://leitchfield.ky.gov/event/planning-commission/2025-06-09/
END:VEVENT
BEGIN:VEVENT
DTSTART;TZID=UTC:20250616T180000
DTEND;TZID=UTC:20250616T190000
DTSTAMP:20260420T174321
CREATED:20230725T155838Z
LAST-MODIFIED:20230725T195455Z
UID:10000749-1750096800-1750100400@leitchfield.ky.gov
SUMMARY:City Council Meetings
DESCRIPTION:The Leitchfield City Council meets in regular session the first and third Monday’s of each month at 6:00 p.m. at Leitchfield City Hall. If the regular meeting date falls on a Holiday it will be the next regular business day at 6:00 p.m. at Leitchfield City Hall.
URL:https://leitchfield.ky.gov/event/city-council-meetings-2/2025-06-16/
LOCATION:Leitchfield City Hall
END:VEVENT
BEGIN:VEVENT
DTSTART;TZID=UTC:20250619T170000
DTEND;TZID=UTC:20250619T180000
DTSTAMP:20260420T174321
CREATED:20230725T155157Z
LAST-MODIFIED:20230725T155643Z
UID:10000567-1750352400-1750356000@leitchfield.ky.gov
SUMMARY:Utilities Commission
DESCRIPTION:The Leitchfield Utilities Commission meets in regular session the first and third Thursday’s of each month at Leitchfield City Hall at 5:00 p.m.
URL:https://leitchfield.ky.gov/event/utilities-commission-2/2025-06-19/
LOCATION:Leitchfield City Hall
END:VEVENT
BEGIN:VEVENT
DTSTART;TZID=UTC:20250624T083000
DTEND;TZID=UTC:20250624T093000
DTSTAMP:20260420T174321
CREATED:20230414T180516Z
LAST-MODIFIED:20230719T154553Z
UID:10000353-1750753800-1750757400@leitchfield.ky.gov
SUMMARY:Tourism Commission Meetings
DESCRIPTION:The Leitchfield Tourism Commission meets on the fourth Tuesday of each month at the Centre on Main at 8:30 a.m. \nIlsa Johnson\, Director\n Contact Ilsa\n515 South Main Street\nLeitchfield\, KY 42754\n (270) 259-5587\n (888) 624-9951 \nCommissioners​ \n\nRyan Bratcher\, Chair\nLindell Sharp\, Vice-Chair\nJoyce Mudd\, Treasurer\nAngie Jones\, Secretary\nKelly Stevenson\nAnthony Miller\nCarla Winn
URL:https://leitchfield.ky.gov/event/tourism-commission-meetings/2025-06-24/
LOCATION:Leitchfield City Hall
END:VEVENT
BEGIN:VEVENT
DTSTART;TZID=UTC:20250703T170000
DTEND;TZID=UTC:20250703T180000
DTSTAMP:20260420T174321
CREATED:20230725T155006Z
LAST-MODIFIED:20230725T155252Z
UID:10000509-1751562000-1751565600@leitchfield.ky.gov
SUMMARY:Utilities Commission
DESCRIPTION:The Leitchfield Utilities Commission meets in regular session the first and third Thursday’s of each month at Leitchfield City Hall at 5:00 p.m.
URL:https://leitchfield.ky.gov/event/utilities-commission/2025-07-03/
LOCATION:Leitchfield City Hall
END:VEVENT
BEGIN:VEVENT
DTSTART;TZID=UTC:20250707T180000
DTEND;TZID=UTC:20250707T190000
DTSTAMP:20260420T174321
CREATED:20230414T175356Z
LAST-MODIFIED:20230725T153733Z
UID:10000062-1751911200-1751914800@leitchfield.ky.gov
SUMMARY:City Council Meetings
DESCRIPTION:The Leitchfield City Council meets in regular session the first and third Monday’s of each month at 6:00 p.m. at Leitchfield City Hall. If the regular meeting date falls on a Holiday it will be the next regular business day at 6:00 p.m. at Leitchfield City Hall.
URL:https://leitchfield.ky.gov/event/city-council-meetings/2025-07-07/
END:VEVENT
BEGIN:VEVENT
DTSTART;TZID=UTC:20250714T170000
DTEND;TZID=UTC:20250714T180000
DTSTAMP:20260420T174321
CREATED:20230414T175730Z
LAST-MODIFIED:20230414T175730Z
UID:10000291-1752512400-1752516000@leitchfield.ky.gov
SUMMARY:Planning Commission
DESCRIPTION:The Leitchfield Planning Commission meets the second Monday of each month at Leitchfield City Hall at 5:00 p.m.
URL:https://leitchfield.ky.gov/event/planning-commission/2025-07-14/
END:VEVENT
BEGIN:VEVENT
DTSTART;TZID=UTC:20250717T170000
DTEND;TZID=UTC:20250717T180000
DTSTAMP:20260420T174321
CREATED:20230725T155157Z
LAST-MODIFIED:20230725T155643Z
UID:10000568-1752771600-1752775200@leitchfield.ky.gov
SUMMARY:Utilities Commission
DESCRIPTION:The Leitchfield Utilities Commission meets in regular session the first and third Thursday’s of each month at Leitchfield City Hall at 5:00 p.m.
URL:https://leitchfield.ky.gov/event/utilities-commission-2/2025-07-17/
LOCATION:Leitchfield City Hall
END:VEVENT
BEGIN:VEVENT
DTSTART;TZID=UTC:20250721T180000
DTEND;TZID=UTC:20250721T190000
DTSTAMP:20260420T174321
CREATED:20230725T155838Z
LAST-MODIFIED:20230725T195455Z
UID:10000750-1753120800-1753124400@leitchfield.ky.gov
SUMMARY:City Council Meetings
DESCRIPTION:The Leitchfield City Council meets in regular session the first and third Monday’s of each month at 6:00 p.m. at Leitchfield City Hall. If the regular meeting date falls on a Holiday it will be the next regular business day at 6:00 p.m. at Leitchfield City Hall.
URL:https://leitchfield.ky.gov/event/city-council-meetings-2/2025-07-21/
LOCATION:Leitchfield City Hall
END:VEVENT
BEGIN:VEVENT
DTSTART;TZID=UTC:20250722T083000
DTEND;TZID=UTC:20250722T093000
DTSTAMP:20260420T174321
CREATED:20230414T180516Z
LAST-MODIFIED:20230719T154553Z
UID:10000354-1753173000-1753176600@leitchfield.ky.gov
SUMMARY:Tourism Commission Meetings
DESCRIPTION:The Leitchfield Tourism Commission meets on the fourth Tuesday of each month at the Centre on Main at 8:30 a.m. \nIlsa Johnson\, Director\n Contact Ilsa\n515 South Main Street\nLeitchfield\, KY 42754\n (270) 259-5587\n (888) 624-9951 \nCommissioners​ \n\nRyan Bratcher\, Chair\nLindell Sharp\, Vice-Chair\nJoyce Mudd\, Treasurer\nAngie Jones\, Secretary\nKelly Stevenson\nAnthony Miller\nCarla Winn
URL:https://leitchfield.ky.gov/event/tourism-commission-meetings/2025-07-22/
LOCATION:Leitchfield City Hall
END:VEVENT
BEGIN:VEVENT
DTSTART;TZID=UTC:20250804T180000
DTEND;TZID=UTC:20250804T190000
DTSTAMP:20260420T174321
CREATED:20230414T175356Z
LAST-MODIFIED:20230725T153733Z
UID:10000064-1754330400-1754334000@leitchfield.ky.gov
SUMMARY:City Council Meetings
DESCRIPTION:The Leitchfield City Council meets in regular session the first and third Monday’s of each month at 6:00 p.m. at Leitchfield City Hall. If the regular meeting date falls on a Holiday it will be the next regular business day at 6:00 p.m. at Leitchfield City Hall.
URL:https://leitchfield.ky.gov/event/city-council-meetings/2025-08-04/
END:VEVENT
BEGIN:VEVENT
DTSTART;TZID=UTC:20250807T170000
DTEND;TZID=UTC:20250807T180000
DTSTAMP:20260420T174321
CREATED:20230725T155006Z
LAST-MODIFIED:20230725T155252Z
UID:10000510-1754586000-1754589600@leitchfield.ky.gov
SUMMARY:Utilities Commission
DESCRIPTION:The Leitchfield Utilities Commission meets in regular session the first and third Thursday’s of each month at Leitchfield City Hall at 5:00 p.m.
URL:https://leitchfield.ky.gov/event/utilities-commission/2025-08-07/
LOCATION:Leitchfield City Hall
END:VEVENT
BEGIN:VEVENT
DTSTART;TZID=UTC:20250811T170000
DTEND;TZID=UTC:20250811T180000
DTSTAMP:20260420T174321
CREATED:20230414T175730Z
LAST-MODIFIED:20230414T175730Z
UID:10000292-1754931600-1754935200@leitchfield.ky.gov
SUMMARY:Planning Commission
DESCRIPTION:The Leitchfield Planning Commission meets the second Monday of each month at Leitchfield City Hall at 5:00 p.m.
URL:https://leitchfield.ky.gov/event/planning-commission/2025-08-11/
END:VEVENT
BEGIN:VEVENT
DTSTART;TZID=UTC:20250818T180000
DTEND;TZID=UTC:20250818T190000
DTSTAMP:20260420T174321
CREATED:20230725T155838Z
LAST-MODIFIED:20230725T195455Z
UID:10000751-1755540000-1755543600@leitchfield.ky.gov
SUMMARY:City Council Meetings
DESCRIPTION:The Leitchfield City Council meets in regular session the first and third Monday’s of each month at 6:00 p.m. at Leitchfield City Hall. If the regular meeting date falls on a Holiday it will be the next regular business day at 6:00 p.m. at Leitchfield City Hall.
URL:https://leitchfield.ky.gov/event/city-council-meetings-2/2025-08-18/
LOCATION:Leitchfield City Hall
END:VEVENT
BEGIN:VEVENT
DTSTART;TZID=UTC:20250821T170000
DTEND;TZID=UTC:20250821T180000
DTSTAMP:20260420T174321
CREATED:20230725T155157Z
LAST-MODIFIED:20230725T155643Z
UID:10000569-1755795600-1755799200@leitchfield.ky.gov
SUMMARY:Utilities Commission
DESCRIPTION:The Leitchfield Utilities Commission meets in regular session the first and third Thursday’s of each month at Leitchfield City Hall at 5:00 p.m.
URL:https://leitchfield.ky.gov/event/utilities-commission-2/2025-08-21/
LOCATION:Leitchfield City Hall
END:VEVENT
BEGIN:VEVENT
DTSTART;TZID=UTC:20250826T083000
DTEND;TZID=UTC:20250826T093000
DTSTAMP:20260420T174321
CREATED:20230414T180516Z
LAST-MODIFIED:20230719T154553Z
UID:10000355-1756197000-1756200600@leitchfield.ky.gov
SUMMARY:Tourism Commission Meetings
DESCRIPTION:The Leitchfield Tourism Commission meets on the fourth Tuesday of each month at the Centre on Main at 8:30 a.m. \nIlsa Johnson\, Director\n Contact Ilsa\n515 South Main Street\nLeitchfield\, KY 42754\n (270) 259-5587\n (888) 624-9951 \nCommissioners​ \n\nRyan Bratcher\, Chair\nLindell Sharp\, Vice-Chair\nJoyce Mudd\, Treasurer\nAngie Jones\, Secretary\nKelly Stevenson\nAnthony Miller\nCarla Winn
URL:https://leitchfield.ky.gov/event/tourism-commission-meetings/2025-08-26/
LOCATION:Leitchfield City Hall
END:VEVENT
BEGIN:VEVENT
DTSTART;TZID=UTC:20250901T180000
DTEND;TZID=UTC:20250901T190000
DTSTAMP:20260420T174321
CREATED:20230414T175356Z
LAST-MODIFIED:20230725T153733Z
UID:10000066-1756749600-1756753200@leitchfield.ky.gov
SUMMARY:City Council Meetings
DESCRIPTION:The Leitchfield City Council meets in regular session the first and third Monday’s of each month at 6:00 p.m. at Leitchfield City Hall. If the regular meeting date falls on a Holiday it will be the next regular business day at 6:00 p.m. at Leitchfield City Hall.
URL:https://leitchfield.ky.gov/event/city-council-meetings/2025-09-01/
END:VEVENT
BEGIN:VEVENT
DTSTART;TZID=UTC:20250904T170000
DTEND;TZID=UTC:20250904T180000
DTSTAMP:20260420T174321
CREATED:20230725T155006Z
LAST-MODIFIED:20230725T155252Z
UID:10000511-1757005200-1757008800@leitchfield.ky.gov
SUMMARY:Utilities Commission
DESCRIPTION:The Leitchfield Utilities Commission meets in regular session the first and third Thursday’s of each month at Leitchfield City Hall at 5:00 p.m.
URL:https://leitchfield.ky.gov/event/utilities-commission/2025-09-04/
LOCATION:Leitchfield City Hall
END:VEVENT
BEGIN:VEVENT
DTSTART;TZID=UTC:20250908T170000
DTEND;TZID=UTC:20250908T180000
DTSTAMP:20260420T174321
CREATED:20230414T175730Z
LAST-MODIFIED:20230414T175730Z
UID:10000293-1757350800-1757354400@leitchfield.ky.gov
SUMMARY:Planning Commission
DESCRIPTION:The Leitchfield Planning Commission meets the second Monday of each month at Leitchfield City Hall at 5:00 p.m.
URL:https://leitchfield.ky.gov/event/planning-commission/2025-09-08/
END:VEVENT
BEGIN:VEVENT
DTSTART;TZID=UTC:20250915T180000
DTEND;TZID=UTC:20250915T190000
DTSTAMP:20260420T174321
CREATED:20230725T155838Z
LAST-MODIFIED:20230725T195455Z
UID:10000752-1757959200-1757962800@leitchfield.ky.gov
SUMMARY:City Council Meetings
DESCRIPTION:The Leitchfield City Council meets in regular session the first and third Monday’s of each month at 6:00 p.m. at Leitchfield City Hall. If the regular meeting date falls on a Holiday it will be the next regular business day at 6:00 p.m. at Leitchfield City Hall.
URL:https://leitchfield.ky.gov/event/city-council-meetings-2/2025-09-15/
LOCATION:Leitchfield City Hall
END:VEVENT
BEGIN:VEVENT
DTSTART;TZID=UTC:20250918T170000
DTEND;TZID=UTC:20250918T180000
DTSTAMP:20260420T174321
CREATED:20230725T155157Z
LAST-MODIFIED:20230725T155643Z
UID:10000570-1758214800-1758218400@leitchfield.ky.gov
SUMMARY:Utilities Commission
DESCRIPTION:The Leitchfield Utilities Commission meets in regular session the first and third Thursday’s of each month at Leitchfield City Hall at 5:00 p.m.
URL:https://leitchfield.ky.gov/event/utilities-commission-2/2025-09-18/
LOCATION:Leitchfield City Hall
END:VEVENT
BEGIN:VEVENT
DTSTART;TZID=UTC:20250923T083000
DTEND;TZID=UTC:20250923T093000
DTSTAMP:20260420T174321
CREATED:20230414T180516Z
LAST-MODIFIED:20230719T154553Z
UID:10000356-1758616200-1758619800@leitchfield.ky.gov
SUMMARY:Tourism Commission Meetings
DESCRIPTION:The Leitchfield Tourism Commission meets on the fourth Tuesday of each month at the Centre on Main at 8:30 a.m. \nIlsa Johnson\, Director\n Contact Ilsa\n515 South Main Street\nLeitchfield\, KY 42754\n (270) 259-5587\n (888) 624-9951 \nCommissioners​ \n\nRyan Bratcher\, Chair\nLindell Sharp\, Vice-Chair\nJoyce Mudd\, Treasurer\nAngie Jones\, Secretary\nKelly Stevenson\nAnthony Miller\nCarla Winn
URL:https://leitchfield.ky.gov/event/tourism-commission-meetings/2025-09-23/
LOCATION:Leitchfield City Hall
END:VEVENT
BEGIN:VEVENT
DTSTART;TZID=UTC:20251002T170000
DTEND;TZID=UTC:20251002T180000
DTSTAMP:20260420T174321
CREATED:20230725T155006Z
LAST-MODIFIED:20230725T155252Z
UID:10000512-1759424400-1759428000@leitchfield.ky.gov
SUMMARY:Utilities Commission
DESCRIPTION:The Leitchfield Utilities Commission meets in regular session the first and third Thursday’s of each month at Leitchfield City Hall at 5:00 p.m.
URL:https://leitchfield.ky.gov/event/utilities-commission/2025-10-02/
LOCATION:Leitchfield City Hall
END:VEVENT
BEGIN:VEVENT
DTSTART;TZID=UTC:20251006T180000
DTEND;TZID=UTC:20251006T190000
DTSTAMP:20260420T174321
CREATED:20230414T175356Z
LAST-MODIFIED:20230725T153733Z
UID:10000405-1759773600-1759777200@leitchfield.ky.gov
SUMMARY:City Council Meetings
DESCRIPTION:The Leitchfield City Council meets in regular session the first and third Monday’s of each month at 6:00 p.m. at Leitchfield City Hall. If the regular meeting date falls on a Holiday it will be the next regular business day at 6:00 p.m. at Leitchfield City Hall.
URL:https://leitchfield.ky.gov/event/city-council-meetings/2025-10-06/
END:VEVENT
BEGIN:VEVENT
DTSTART;TZID=UTC:20251013T170000
DTEND;TZID=UTC:20251013T180000
DTSTAMP:20260420T174321
CREATED:20230414T175730Z
LAST-MODIFIED:20230414T175730Z
UID:10000294-1760374800-1760378400@leitchfield.ky.gov
SUMMARY:Planning Commission
DESCRIPTION:The Leitchfield Planning Commission meets the second Monday of each month at Leitchfield City Hall at 5:00 p.m.
URL:https://leitchfield.ky.gov/event/planning-commission/2025-10-13/
END:VEVENT
BEGIN:VEVENT
DTSTART;TZID=UTC:20251016T170000
DTEND;TZID=UTC:20251016T180000
DTSTAMP:20260420T174321
CREATED:20230725T155157Z
LAST-MODIFIED:20230725T155643Z
UID:10000571-1760634000-1760637600@leitchfield.ky.gov
SUMMARY:Utilities Commission
DESCRIPTION:The Leitchfield Utilities Commission meets in regular session the first and third Thursday’s of each month at Leitchfield City Hall at 5:00 p.m.
URL:https://leitchfield.ky.gov/event/utilities-commission-2/2025-10-16/
LOCATION:Leitchfield City Hall
END:VEVENT
BEGIN:VEVENT
DTSTART;TZID=UTC:20251020T180000
DTEND;TZID=UTC:20251020T190000
DTSTAMP:20260420T174321
CREATED:20230725T155838Z
LAST-MODIFIED:20230725T195455Z
UID:10000753-1760983200-1760986800@leitchfield.ky.gov
SUMMARY:City Council Meetings
DESCRIPTION:The Leitchfield City Council meets in regular session the first and third Monday’s of each month at 6:00 p.m. at Leitchfield City Hall. If the regular meeting date falls on a Holiday it will be the next regular business day at 6:00 p.m. at Leitchfield City Hall.
URL:https://leitchfield.ky.gov/event/city-council-meetings-2/2025-10-20/
LOCATION:Leitchfield City Hall
END:VEVENT
BEGIN:VEVENT
DTSTART;TZID=UTC:20251028T083000
DTEND;TZID=UTC:20251028T093000
DTSTAMP:20260420T174321
CREATED:20230414T180516Z
LAST-MODIFIED:20230719T154553Z
UID:10000357-1761640200-1761643800@leitchfield.ky.gov
SUMMARY:Tourism Commission Meetings
DESCRIPTION:The Leitchfield Tourism Commission meets on the fourth Tuesday of each month at the Centre on Main at 8:30 a.m. \nIlsa Johnson\, Director\n Contact Ilsa\n515 South Main Street\nLeitchfield\, KY 42754\n (270) 259-5587\n (888) 624-9951 \nCommissioners​ \n\nRyan Bratcher\, Chair\nLindell Sharp\, Vice-Chair\nJoyce Mudd\, Treasurer\nAngie Jones\, Secretary\nKelly Stevenson\nAnthony Miller\nCarla Winn
URL:https://leitchfield.ky.gov/event/tourism-commission-meetings/2025-10-28/
LOCATION:Leitchfield City Hall
END:VEVENT
BEGIN:VEVENT
DTSTART;TZID=UTC:20251103T180000
DTEND;TZID=UTC:20251103T190000
DTSTAMP:20260420T174321
CREATED:20230414T175356Z
LAST-MODIFIED:20230725T153733Z
UID:10000406-1762192800-1762196400@leitchfield.ky.gov
SUMMARY:City Council Meetings
DESCRIPTION:The Leitchfield City Council meets in regular session the first and third Monday’s of each month at 6:00 p.m. at Leitchfield City Hall. If the regular meeting date falls on a Holiday it will be the next regular business day at 6:00 p.m. at Leitchfield City Hall.
URL:https://leitchfield.ky.gov/event/city-council-meetings/2025-11-03/
END:VEVENT
END:VCALENDAR